Workbook

Sheet 附件2-收費調整對照表
A1: 收費調整對照表
A2: 幼兒園名稱：
A3: 一、幼兒園收費明細
A4: 全 日 班 | B4: 調整前收費(請填入幼生管理系統收費數額) | L4: 調整後收費
B5: 一學期 月數 | D5: 個月 | L5: 一學期 月數 | N5: 個月
B6: 適用年齡層 | D6: 5歲 | F6: 4歲 | H6: 3歲 | J6: 2歲 | L6: 適用年齡層 | N6: 5歲 | S6: 4歲 | X6: 3歲 | AC6: 2歲
B7: 收費項目 | C7: 收費區間 | L7: 收費項目 | M7: 收費區間 | N7: 數額 | P7: 4.09%數額 | Q7: 期增加 | R7: 月增加 | S7: 數額 | U7: 4.09%數額 | V7: 期增加 | W7: 月增加 | X7: 數額 | Z7: 4.09%數額 | AA7: 期增加 | AB7: 月增加 | AC7: 數額 | AE7: 4.09%數額 | AF7: 期增加 | AG7: 月增加
B8: 學費 | E8: =IF($C$8="期",D8,D8*6) -> 0 | G8: =IF($C$8="期",F8,F8*6) -> 0 | I8: =IF($C$8="期",H8,H8*6) -> 0 | K8: =IF($C$8="期",J8,J8*6) -> 0 | L8: 學費 | N8: =IF($M8="期",E8+Q8,E8/$M$5+R8) -> #DIV/0! | O8: =IF($M8="期",N8,N8*6) -> #DIV/0! | P8: - | Q8: =R8*$M$5 -> #VALUE! | R8: =$X$19 | S8: =IF($M8="期",G8+V8,G8/$M$5+W8) -> #DIV/0! | T8: =IF($M8="期",S8,S8*$M$5) -> #DIV/0! | U8: - | V8: =W8*$M$5 -> #VALUE! | W8: =$X$19 | X8: =IF($M8="期",I8+AA8,I8/$M$5+AB8) -> #DIV/0! | Y8: =IF($M8="期",X8,X8*$M$5) -> #DIV/0! | Z8: - | AA8: =AB8*$M$5 -> #VALUE! | AB8: =$X$19 | AC8: =IF($M8="期",K8+AF8,K8/$M$5+AG8) -> #DIV/0! | AD8: =IF($M8="期",AC8,AC8*$M$5) -> #DIV/0! | AE8: - | AF8: =AG8*$M$5 -> #VALUE! | AG8: =$X$19
B9: 雜費 | D9: =D10+D11 -> 0 | E9: =IF($C$9="期",D9,D9*6) -> 0 | F9: =F10+F11 -> 0 | G9: =IF($C$9="期",F9,F9*6) -> 0 | H9: =H10+H11 -> 0 | I9: =IF($C$9="期",H9,H9*6) -> 0 | J9: =J10+J11 -> 0 | K9: =IF($C$9="期",J9,J9*6) -> 0 | L9: 雜費 | N9: =N10+N11 -> #DIV/0! | O9: =IF($M9="期",N9,N9*6) -> #DIV/0! | P9: - | Q9: =O9-E9 -> #DIV/0! | R9: =Q9/$M$5 -> #DIV/0! | S9: =S10+S11 -> #DIV/0! | T9: =IF($M9="期",S9,S9*$M$5) -> #DIV/0! | U9: - | V9: =T9-G9 -> #DIV/0! | W9: =V9/$M$5 -> #DIV/0! | X9: =X10+X11 -> #DIV/0! | Y9: =IF($M9="期",X9,X9*$M$5) -> #DIV/0! | Z9: - | AA9: =Y9-I9 -> #DIV/0! | AB9: =AA9/$M$5 -> #DIV/0! | AC9: =AC10+AC11 -> #DIV/0! | AD9: =IF($M9="期",AC9,AC9*$M$5) -> #DIV/0! | AE9: - | AF9: =AD9-K9 -> #DIV/0! | AG9: =AF9/$M$5 -> #DIV/0!
B10: 雜費 (人事) | E10: =IF($C$9="期",D10,D10*6) -> 0 | G10: =IF($C$9="期",F10,F10*6) -> 0 | I10: =IF($C$9="期",H10,H10*6) -> 0 | K10: =IF($C$9="期",J10,J10*6) -> 0 | L10: 雜費 (人事) | N10: =IF($M9="期",E10+Q10,E10/$M$5+R10) -> #DIV/0! | O10: =IF($M8="期",Q10*$M$5,Q10) -> #VALUE! | P10: - | Q10: =R10*$M$5 -> #VALUE! | R10: =$X$21 | S10: =IF($M9="期",G10+V10,G10/$M$5+W10) -> #DIV/0! | T10: =IF($M9="期",S10,S10*$M$5) -> #DIV/0! | U10: - | V10: =W10*$M$5 -> #VALUE! | W10: =$X$21 | X10: =IF($M9="期",I10+AA10,I10/$M$5+AB10) -> #DIV/0! | Y10: =IF($M9="期",X10,X10*$M$5) -> #DIV/0! | Z10: - | AA10: =AB10*$M$5 -> #VALUE! | AB10: =$X$21 | AC10: =IF($M9="期",K10+AF10,K10/$M$5+AG10) -> #DIV/0! | AD10: =IF($M9="期",AC10,AC10*$M$5) -> #DIV/0! | AE10: - | AF10: =AG10*$M$5 -> #VALUE! | AG10: =$X$21
B11: 雜費 (其他庶務費用) | E11: =IF($C$9="期",D11,D11*6) -> 0 | G11: =IF($C$9="期",F11,F11*6) -> 0 | I11: =IF($C$9="期",H11,H11*6) -> 0 | K11: =IF($C$9="期",J11,J11*6) -> 0 | L11: 雜費 (其他庶務費用) | O11: =IF($M9="期",N11,N11*6) -> 0 | P11: =IF($M$9="期",ROUNDDOWN((D11*0.0409)/6,0),ROUNDDOWN(D11*0.0409,0)) -> 0 | Q11: =O11-E11 -> 0 | R11: =Q11/$M$5 -> #DIV/0! | T11: =IF($M9="期",S11,S11*$M$5) -> 0 | U11: =IF($M$9="期",ROUNDDOWN((F11*0.0409)/6,0),ROUNDDOWN(F11*0.0409,0)) -> 0 | V11: =T11-G11 -> 0 | W11: =V11/$M$5 -> #DIV/0! | Y11: =IF($M9="期",X11,X11*$M$5) -> 0 | Z11: =IF($M$9="期",ROUNDDOWN((H11*0.0409)/6,0),ROUNDDOWN(H11*0.0409,0)) -> 0 | AA11: =Y11-I11 -> 0 | AB11: =AA11/$M$5 -> #DIV/0! | AD11: =IF($M9="期",AC11,AC11*$M$5) -> 0 | AE11: =IF($M$9="期",ROUNDDOWN((J11*0.0409)/6,0),ROUNDDOWN(J11*0.0409,0)) -> 0 | AF11: =AD11-K11 -> 0 | AG11: =AF11/$M$5 -> #DIV/0!
B12: 材料費 | E12: =IF($C$12="期",D12,D12*6) -> 0 | G12: =IF($C$12="期",F12,F12*6) -> 0 | I12: =IF($C$12="期",H12,H12*6) -> 0 | K12: =IF($C$12="期",J12,J12*6) -> 0 | L12: 材料費 | O12: =IF($M12="期",N12,N12*6) -> 0 | P12: =IF($M$12="期",ROUNDDOWN((D12*0.0409)/6,0),ROUNDDOWN(D12*0.0409,0)) -> 0 | Q12: =O12-E12 -> 0 | R12: =Q12/$M$5 -> #DIV/0! | T12: =IF($M12="期",S12,S12*$M$5) -> 0 | U12: =IF($M$12="期",ROUNDDOWN((F12*0.0409)/6,0),ROUNDDOWN(F12*0.0409,0)) -> 0 | V12: =T12-G12 -> 0 | W12: =V12/$M$5 -> #DIV/0! | Y12: =IF($M12="期",X12,X12*$M$5) -> 0 | Z12: =IF($M$12="期",ROUNDDOWN((H12*0.0409)/6,0),ROUNDDOWN(H12*0.0409,0)) -> 0 | AA12: =Y12-I12 -> 0 | AB12: =AA12/$M$5 -> #DIV/0! | AD12: =IF($M12="期",AC12,AC12*$M$5) -> 0 | AE12: =IF($M$12="期",ROUNDDOWN((J12*0.0409)/6,0),ROUNDDOWN(J12*0.0409,0)) -> 0 | AF12: =AD12-K12 -> 0 | AG12: =AF12/$M$5 -> #DIV/0!
B13: 活動費 | E13: =IF($C$13="期",D13,D13*6) -> 0 | G13: =IF($C$13="期",F13,F13*6) -> 0 | I13: =IF($C$13="期",H13,H13*6) -> 0 | K13: =IF($C$13="期",J13,J13*6) -> 0 | L13: 活動費 | O13: =IF($M13="期",N13,N13*6) -> 0 | P13: =IF($M$12="期",ROUNDDOWN((D13*0.0409)/6,0),ROUNDDOWN(D13*0.0409,0)) -> 0 | Q13: =O13-E13 -> 0 | R13: =Q13/$M$5 -> #DIV/0! | T13: =IF($M13="期",S13,S13*$M$5) -> 0 | U13: =IF($M$12="期",ROUNDDOWN((F13*0.0409)/6,0),ROUNDDOWN(F13*0.0409,0)) -> 0 | V13: =T13-G13 -> 0 | W13: =V13/$M$5 -> #DIV/0! | Y13: =IF($M13="期",X13,X13*$M$5) -> 0 | Z13: =IF($M$12="期",ROUNDDOWN((H13*0.0409)/6,0),ROUNDDOWN(H13*0.0409,0)) -> 0 | AA13: =Y13-I13 -> 0 | AB13: =AA13/$M$5 -> #DIV/0! | AD13: =IF($M13="期",AC13,AC13*$M$5) -> 0 | AE13: =IF($M$12="期",ROUNDDOWN((J13*0.0409)/6,0),ROUNDDOWN(J13*0.0409,0)) -> 0 | AF13: =AD13-K13 -> 0 | AG13: =AF13/$M$5 -> #DIV/0!
B14: 午餐費 | E14: =IF($C$14="期",D14,D14*6) -> 0 | G14: =IF($C$14="期",F14,F14*6) -> 0 | I14: =IF($C$14="期",H14,H14*6) -> 0 | K14: =IF($C$14="期",J14,J14*6) -> 0 | L14: 午餐費 | O14: =IF($M14="期",N14,N14*6) -> 0 | P14: =IF($M$12="期",ROUNDDOWN((D14*0.0409)/6,0),ROUNDDOWN(D14*0.0409,0)) -> 0 | Q14: =O14-E14 -> 0 | R14: =Q14/$M$5 -> #DIV/0! | T14: =IF($M14="期",S14,S14*$M$5) -> 0 | U14: =IF($M$12="期",ROUNDDOWN((F14*0.0409)/6,0),ROUNDDOWN(F14*0.0409,0)) -> 0 | V14: =T14-G14 -> 0 | W14: =V14/$M$5 -> #DIV/0! | Y14: =IF($M14="期",X14,X14*$M$5) -> 0 | Z14: =IF($M$12="期",ROUNDDOWN((H14*0.0409)/6,0),ROUNDDOWN(H14*0.0409,0)) -> 0 | AA14: =Y14-I14 -> 0 | AB14: =AA14/$M$5 -> #DIV/0! | AD14: =IF($M14="期",AC14,AC14*$M$5) -> 0 | AE14: =IF($M$12="期",ROUNDDOWN((J14*0.0409)/6,0),ROUNDDOWN(J14*0.0409,0)) -> 0 | AF14: =AD14-K14 -> 0 | AG14: =AF14/$M$5 -> #DIV/0!
B15: 點心費 | E15: =IF($C$15="期",D15,D15*6) -> 0 | G15: =IF($C$15="期",F15,F15*6) -> 0 | I15: =IF($C$15="期",H15,H15*6) -> 0 | K15: =IF($C$15="期",J15,J15*6) -> 0 | L15: 點心費 | O15: =IF($M15="期",N15,N15*6) -> 0 | P15: =IF($M$12="期",ROUNDDOWN((D15*0.0409)/6,0),ROUNDDOWN(D15*0.0409,0)) -> 0 | Q15: =O15-E15 -> 0 | R15: =Q15/$M$5 -> #DIV/0! | T15: =IF($M15="期",S15,S15*$M$5) -> 0 | U15: =IF($M$12="期",ROUNDDOWN((F15*0.0409)/6,0),ROUNDDOWN(F15*0.0409,0)) -> 0 | V15: =T15-G15 -> 0 | W15: =V15/$M$5 -> #DIV/0! | Y15: =IF($M15="期",X15,X15*$M$5) -> 0 | Z15: =IF($M$12="期",ROUNDDOWN((H15*0.0409)/6,0),ROUNDDOWN(H15*0.0409,0)) -> 0 | AA15: =Y15-I15 -> 0 | AB15: =AA15/$M$5 -> #DIV/0! | AD15: =IF($M15="期",AC15,AC15*$M$5) -> 0 | AE15: =IF($M$12="期",ROUNDDOWN((J15*0.0409)/6,0),ROUNDDOWN(J15*0.0409,0)) -> 0 | AF15: =AD15-K15 -> 0 | AG15: =AF15/$M$5 -> #DIV/0!
B16: 全學期總收費 | D16: =SUM(E8:E9,E12:E15) -> 0 | F16: =SUM(G8:G9,G12:G15) -> 0 | H16: =SUM(I8:I9,I12:I15) -> 0 | J16: =SUM(K8:K9,K12:K15) -> 0 | L16: 全學期總收費 | N16: =SUM(O8:O9,O12:O15) -> #DIV/0! | Q16: =SUM(Q8:Q9,Q12:Q15) -> #VALUE! | R16: =SUM(R8:R9,R12:R15) -> #DIV/0! | S16: =SUM(T8:T9,T12:T15) -> #DIV/0! | V16: =SUM(V8:V9,V12:V15) -> #VALUE! | W16: =SUM(W8:W9,W12:W15) -> #DIV/0! | X16: =SUM(Y8:Y9,Y12:Y15) -> #DIV/0! | AA16: =SUM(AA8:AA9,AA12:AA15) -> #VALUE! | AB16: =SUM(AB8:AB9,AB12:AB15) -> #DIV/0! | AC16: =SUM(AD8:AD9,AD12:AD15) -> #DIV/0! | AF16: =SUM(AF8:AF9,AF12:AF15) -> #VALUE! | AG16: =SUM(AG8:AG9,AG12:AG15) -> #DIV/0!
C18: 調整前 | F18: 調整後 | J18: 調幅不得逾 | P18: ↓人事薪資試算表帶入資料 人事費每生每月增加→ | X18: 小計 | Z18: =X19+X21 -> #VALUE! | AE18: 元
B19: 交通費 | C19: 單趟(月) | F19: 單趟(月) | G19: 單趟(月) | J19: 單趟/950元/月 雙趟/1,700元/月 | P19: 學費 (教保服務人員薪資) | S19: ='附件3-教保服務人員調薪及其他人員調薪試算表'!B30 -> 平均每生每月 調整數額 | X19: ='附件3-教保服務人員調薪及其他人員調薪試算表'!D30 | AC19: ='附件3-教保服務人員調薪及其他人員調薪試算表'!E30 -> 元(四捨五入)
C20: 雙趟(月) | F20: 雙趟(月) | G20: 雙趟(月)
B21: 延長照顧 服務費 | C21: 每小時 | F21: 每小時 | G21: 單次 每小時 | J21: 每小時120元，每月最高收費上限不得逾2,000元 | P21: 部份雜費 (其他庶務人員薪資) | S21: ='附件3-教保服務人員調薪及其他人員調薪試算表'!B31 -> 平均每生每月 調整數額 | X21: ='附件3-教保服務人員調薪及其他人員調薪試算表'!D31 | AC21: ='附件3-教保服務人員調薪及其他人員調薪試算表'!E31 -> 元(四捨五入)
C22: 每月收費不得逾 | F22: 每月收費不得逾 | G22: 每月收費上限
B23: ＊無申請交通費或延長照顧服務費者請填列與幼生系統相同數字
A25: 二、幼兒園幼生數
A26: 實際幼生數(請依幼生管理系統登載人數填報)
A27: 項 次 | B27: 大班(5歲) | D27: 中班(4歲) | H27: 小班(3歲) | L27: 幼班(2歲) | N27: 合計 幼生人數(不得＞核定人數) | S27: 平均 幼生數 (全日) | U27: 平均 幼生數 (半日) | AC27: 5歲 | AE27: 4歲 | AH27: 3歲 | AI27: 2歲
B28: 全日班 | C28: 半日班 | D28: 全日班 | F28: 半日班 | H28: 全日班 | J28: 半日班 | L28: 全日班 | M28: 半日班 | N28: 全日班 | O28: 半日班 | P28: 半日班 | Z28: 非人事費 每生每月增加 | AC28: =SUM(R11:R15) -> #DIV/0! | AE28: =SUM(W11:W15) -> #DIV/0! | AH28: =SUM(AB11:AB15) -> #DIV/0! | AI28: =SUM(AG11:AG15) -> #DIV/0!
A29: 113-2 | N29: =SUM(B29,D29,H29,L29) -> 0 | P29: =SUM(C29,F29,J29,M29) -> 0 | S29: =SUM(N29:N30)/2 -> 0 | U29: =SUM(P29:P30)/2 -> 0
A30: 114-1 | N30: =SUM(B30,D30,H30,L30) -> 0 | P30: =SUM(C30,F30,J30,M30) -> 0 | Z30: ＊非人事費：除符合三年一周期調幅上限4.09%外，每生每月調整上限為400元。
A31: ※填表說明：本表調整前收費，請比照教育部全國幼兒園幼生管理系統各項目收費區間及數額，並依系統現況填列。
A32: 承辦： 園長： 負責人：

Sheet 附件3-教保服務人員調薪及其他人員調薪試算表
A1: ='附件2-收費調整對照表'!C2 -> 0
A2: 教保服務人員及其他人員調薪試算表
A3: 實際招收幼生數 | C3: ='附件2-收費調整對照表'!S29 -> 0 | D3: 人
A4: 序號 | B4: 姓名 | C4: 職稱 | D4: 薪資 | E4: 調整後 薪資 | G4: 調薪 %數 | J4: 差額
A5: 例 | B5: 我是範例 | C5: 園長 | D5: 48000 | E5: 50400 | G5: =IFERROR((E5-D5)/D5,"") -> 0.05 | J5: =E5-D5 -> 2400
A6: 1 | F6: =IF(C6="園長",1,IF(C6="教師",1,IF(C6="教保員",1,IF(C6="助理教保員",1,IF(C6="代理教師",1,IF(C6="代理教保員",1,IF(C6="代理助理教保員",1,0))))))) -> 0 | G6: =IFERROR((E6-D6)/D6,"") | H6: =IF(F6=1,E6-D6,0) -> 0 | I6: =IF(F6=0,E6-D6,0) -> 0 | J6: =E6-D6 -> 0
A7: 2 | F7: =IF(C7="園長",1,IF(C7="教師",1,IF(C7="教保員",1,IF(C7="助理教保員",1,IF(C7="代理教師",1,IF(C7="代理教保員",1,IF(C7="代理助理教保員",1,0))))))) -> 0 | G7: =IFERROR((E7-D7)/D7,"") | H7: =IF(F7=1,E7-D7,0) -> 0 | I7: =IF(F7=0,E7-D7,0) -> 0 | J7: =E7-D7 -> 0
A8: 3 | F8: =IF(C8="園長",1,IF(C8="教師",1,IF(C8="教保員",1,IF(C8="助理教保員",1,IF(C8="代理教師",1,IF(C8="代理教保員",1,IF(C8="代理助理教保員",1,0))))))) -> 0 | G8: =IFERROR((E8-D8)/D8,"") | H8: =IF(F8=1,E8-D8,0) -> 0 | I8: =IF(F8=0,E8-D8,0) -> 0 | J8: =E8-D8 -> 0
A9: 4 | F9: =IF(C9="園長",1,IF(C9="教師",1,IF(C9="教保員",1,IF(C9="助理教保員",1,IF(C9="代理教師",1,IF(C9="代理教保員",1,IF(C9="代理助理教保員",1,0))))))) -> 0 | G9: =IFERROR((E9-D9)/D9,"") | H9: =IF(F9=1,E9-D9,0) -> 0 | I9: =IF(F9=0,E9-D9,0) -> 0 | J9: =E9-D9 -> 0
A10: 5 | F10: =IF(C10="園長",1,IF(C10="教師",1,IF(C10="教保員",1,IF(C10="助理教保員",1,IF(C10="代理教師",1,IF(C10="代理教保員",1,IF(C10="代理助理教保員",1,0))))))) -> 0 | G10: =IFERROR((E10-D10)/D10,"") | H10: =IF(F10=1,E10-D10,0) -> 0 | I10: =IF(F10=0,E10-D10,0) -> 0 | J10: =E10-D10 -> 0
A11: 6 | F11: =IF(C11="園長",1,IF(C11="教師",1,IF(C11="教保員",1,IF(C11="助理教保員",1,IF(C11="代理教師",1,IF(C11="代理教保員",1,IF(C11="代理助理教保員",1,0))))))) -> 0 | G11: =IFERROR((E11-D11)/D11,"") | H11: =IF(F11=1,E11-D11,0) -> 0 | I11: =IF(F11=0,E11-D11,0) -> 0 | J11: =E11-D11 -> 0
A12: 7 | F12: =IF(C12="園長",1,IF(C12="教師",1,IF(C12="教保員",1,IF(C12="助理教保員",1,IF(C12="代理教師",1,IF(C12="代理教保員",1,IF(C12="代理助理教保員",1,0))))))) -> 0 | G12: =IFERROR((E12-D12)/D12,"") | H12: =IF(F12=1,E12-D12,0) -> 0 | I12: =IF(F12=0,E12-D12,0) -> 0 | J12: =E12-D12 -> 0
A13: 8 | F13: =IF(C13="園長",1,IF(C13="教師",1,IF(C13="教保員",1,IF(C13="助理教保員",1,IF(C13="代理教師",1,IF(C13="代理教保員",1,IF(C13="代理助理教保員",1,0))))))) -> 0 | G13: =IFERROR((E13-D13)/D13,"") | H13: =IF(F13=1,E13-D13,0) -> 0 | I13: =IF(F13=0,E13-D13,0) -> 0 | J13: =E13-D13 -> 0
A14: 9 | F14: =IF(C14="園長",1,IF(C14="教師",1,IF(C14="教保員",1,IF(C14="助理教保員",1,IF(C14="代理教師",1,IF(C14="代理教保員",1,IF(C14="代理助理教保員",1,0))))))) -> 0 | G14: =IFERROR((E14-D14)/D14,"") | H14: =IF(F14=1,E14-D14,0) -> 0 | I14: =IF(F14=0,E14-D14,0) -> 0 | J14: =E14-D14 -> 0
A15: 10 | F15: =IF(C15="園長",1,IF(C15="教師",1,IF(C15="教保員",1,IF(C15="助理教保員",1,IF(C15="代理教師",1,IF(C15="代理教保員",1,IF(C15="代理助理教保員",1,0))))))) -> 0 | G15: =IFERROR((E15-D15)/D15,"") | H15: =IF(F15=1,E15-D15,0) -> 0 | I15: =IF(F15=0,E15-D15,0) -> 0 | J15: =E15-D15 -> 0
A16: 11 | F16: =IF(C16="園長",1,IF(C16="教師",1,IF(C16="教保員",1,IF(C16="助理教保員",1,IF(C16="代理教師",1,IF(C16="代理教保員",1,IF(C16="代理助理教保員",1,0))))))) -> 0 | G16: =IFERROR((E16-D16)/D16,"") | H16: =IF(F16=1,E16-D16,0) -> 0 | I16: =IF(F16=0,E16-D16,0) -> 0 | J16: =E16-D16 -> 0
A17: 12 | F17: =IF(C17="園長",1,IF(C17="教師",1,IF(C17="教保員",1,IF(C17="助理教保員",1,IF(C17="代理教師",1,IF(C17="代理教保員",1,IF(C17="代理助理教保員",1,0))))))) -> 0 | G17: =IFERROR((E17-D17)/D17,"") | H17: =IF(F17=1,E17-D17,0) -> 0 | I17: =IF(F17=0,E17-D17,0) -> 0 | J17: =E17-D17 -> 0
... A25: 20 | F25: =IF(C25="園長",1,IF(C25="教師",1,IF(C25="教保員",1,IF(C25="助理教保員",1,IF(C25="代理教師",1,IF(C25="代理教保員",1,IF(C25="代理助理教保員",1,0))))))) -> 0 | G25: =IFERROR((E25-D25)/D25,"") | H25: =IF(F25=1,E25-D25,0) -> 0 | I25: =IF(F25=0,E25-D25,0) -> 0 | J25: =E25-D25 -> 0
H26: =SUM(H6:H25) -> 0 | I26: =SUM(I6:I25) -> 0
A27: 教保服務人員差額合計 | J27: =H26 -> 0
A28: 非教保服務人員差額合計 | J28: =I26 -> 0
A29: 計算說明：依調薪後薪資差額×120%(每增加1千元所衍生雇主需負擔之勞保、健保、勞退差額)÷實際招收人數＝調整後每生每月增加數額
A30: 學費 | B30: 平均每生每月 調整數額 | D30: =IFERROR(ROUND(J27*1.2/C3,-1),"") | E30: 元(四捨五入)
A31: 雜費(人事部份) | B31: 平均每生每月 調整數額 | D31: =IFERROR(ROUND(J28*1.2/C3,-1),"") | E31: 元(四捨五入)
A33: 具結 我 (請親簽)為該幼兒園之負責人， 上開調整之薪資(含投保級距)將於收到教育局核准公文之次月逕行調整，倘若經查未依審議通過數額予教職員工調薪者，除收費應調回前一學年度數額外，其於次一學年度不得申請。
B35: 承辦人： | E35: 負責人：
